BEGIN:VCALENDAR
VERSION:2.0
METHOD:PUBLISH
X-WR-CALNAME;VALUE=TEXT:Events from UUA.org
PRODID:-//Drupal iCal API//EN
BEGIN:VEVENT
SUMMARY:Volunteer Development Sparks module  (Online)
UID:dfcf40dc-f367-4c3e-9dfa-239cf53e43c0
RECURRENCE-ID;TZID=America/New_York:20260710T140000
DTSTART;TZID=America/New_York:20260710T140000
DURATION:P0DT2H0M
DTSTAMP:20260414T070105Z
URL;TYPE=URI:
 https://www.uua.org/careers/re/sparks/calendar/volunteer-development-sparks-module
DESCRIPTION:Join us to develop skills for recruiting and equipping volunteers and nurturing their spiritual engagement and health.
 - https://www.uua.org/careers/re/sparks/calendar/volunteer-development-sparks-module
X-ALT-DESC;FMTTYPE=text/html:<p><strong>Type of event: </strong>Training</p>&nbsp;<p>The Volunteer Development Sparks module is a great way to explore updated models for faith development volunteer engagement! It’s recently updated/rewritten, so if you’ve taken the “Teacher Development” module in the past… you haven’t taken THIS one!</p><p>This module will take place online&nbsp;Fridays, July 10, 17, 24, 31 and August 7, 2-4pm ET / 1-3pm CT / 12-2 MT / 11-1 PT / 10-12 AKST / 8-10 HST.&nbsp;The module will be facilitated by Kirsten Hunter, CRE & religious educator Skyla King-Christison. Registration is limited to 15 participants and the fee for this 5-session module is $250, payable on a sliding scale according to availability to pay. More payment details are available in <a href="https://uua.wufoo.com/forms/monal0m004m6a2/">the registration form</a>. The registration deadline is July 2, 2026.</p><h2>Module Requirements</h2><p>The Volunteer Development module is an online learning experience that includes five two-hour webinars with reading and other assignments for each session, hosted on the UU Institute. Credit will be offered for full participation in the module. Full participation includes:</p><ul><li data-list-item-id="e744c3a22ace95af1594b3ecc3d366781">Online attendance and active participation in five two-hour sessions;</li><li data-list-item-id="e6ab70d328322c3eea30dd86686a120a7">Reading and reflection&nbsp;to prepare for each session, which will require about two or three hours per session<strong>;</strong></li><li data-list-item-id="eec9cde36472960f44c8a541621f60e5e">Completion of all module assignments; and</li><li data-list-item-id="e32062c632d163603daee2701582bc437">Submission of the <a href="https://www.uua.org/careers/re/renaissance/participant-eval-form">Participant Evaluation</a>&nbsp;within one week after module ends.</li></ul><h2>Learning Objectives</h2><p>The Volunteer Development module will help you</p><ul><li data-list-item-id="e979cd4d11c668e0de91f994ea3b55e8a">Develop skills for recruiting and equipping volunteers and nurturing their spiritual engagement and health;</li><li data-list-item-id="e464ae8733cf2938105dbfeec5fd4fed9">Assist volunteers in connecting with and developing quality relationships with people of all ages and across neurological and other differences;</li><li data-list-item-id="e6058bb0306591603a610735fe86f7ed0">Teach volunteers to center inclusion and practice pastoral presence in their volunteer work;</li><li data-list-item-id="ee09c69e3957f42f025f7ba4ae3324df9">Understand the implications of new models of religious education on volunteer recruitment, training, and retention; and</li><li data-list-item-id="eb2deeb771fc5c6805808180e6d42fddf">Apply a faith development lens not only to the work that volunteers do but to how you engage volunteers in that work.</li></ul><h2>Required Reading</h2><p>The required reading for this module is on UU Institute. Information to access this course material will be shared with you two weeks prior to the course start.</p><h2>Technical Considerations</h2><p>The webinar platform is Zoom, which you can download from <a href="http://www.zoom.us/">Zoom</a>.</p><p>In order register and access module materials, participants must have or create a UU Institute profile. On <a href="https://uuinstitute.org">UUinstitute.org</a>, click on “Log In/Register” at the top right and follow instructions on the page to Register. If you have already participated in a UU Institute training, you will be able to use the account you have already created once your facilitators add the course to your profile. In your course registration at the link below, <strong>you must provide&nbsp;the</strong><strong>email address affiliated with your UU Institute account&nbsp;</strong>for facilitators to add you to the group and begin the preparation required before the first session.</p><p><strong>Register&nbsp;</strong><a href="https://uua.wufoo.com/forms/monal0m004m6a2/">here</a><strong>!</strong></p><p><a href="https://www.uua.org/careers/re/sparks/calendar/volunteer-development-sparks-module">Volunteer Development Sparks module </a></p>
CREATED:20260414T065846Z
END:VEVENT
BEGIN:VTIMEZONE
TZID:America/Anchorage
X-LIC-LOCATION:America/Anchorage
BEGIN:DAYLIGHT
TZOFFSETFROM:-0900
TZOFFSETTO:-0800
TZNAME:AKDT
DTSTART:19700308T020000
RRULE:FREQ=YEARLY;BYMONTH=3;BYDAY=2SU
END:DAYLIGHT
BEGIN:STANDARD
TZOFFSETFROM:-0800
TZOFFSETTO:-0900
TZNAME:AKST
DTSTART:19701101T020000
RRULE:FREQ=YEARLY;BYMONTH=11;BYDAY=1SU
END:STANDARD
END:VTIMEZONE
BEGIN:VTIMEZONE
TZID:America/Chicago
X-LIC-LOCATION:America/Chicago
BEGIN:DAYLIGHT
TZOFFSETFROM:-0600
TZOFFSETTO:-0500
TZNAME:CDT
DTSTART:19700308T020000
RRULE:FREQ=YEARLY;BYMONTH=3;BYDAY=2SU
END:DAYLIGHT
BEGIN:STANDARD
TZOFFSETFROM:-0500
TZOFFSETTO:-0600
TZNAME:CST
DTSTART:19701101T020000
RRULE:FREQ=YEARLY;BYMONTH=11;BYDAY=1SU
END:STANDARD
END:VTIMEZONE
BEGIN:VTIMEZONE
TZID:America/Denver
X-LIC-LOCATION:America/Denver
BEGIN:DAYLIGHT
TZOFFSETFROM:-0700
TZOFFSETTO:-0600
TZNAME:MDT
DTSTART:19700308T020000
RRULE:FREQ=YEARLY;BYMONTH=3;BYDAY=2SU
END:DAYLIGHT
BEGIN:STANDARD
TZOFFSETFROM:-0600
TZOFFSETTO:-0700
TZNAME:MST
DTSTART:19701101T020000
RRULE:FREQ=YEARLY;BYMONTH=11;BYDAY=1SU
END:STANDARD
END:VTIMEZONE
BEGIN:VTIMEZONE
TZID:America/Detroit
X-LIC-LOCATION:America/Detroit
BEGIN:DAYLIGHT
TZOFFSETFROM:-0500
TZOFFSETTO:-0400
TZNAME:EDT
DTSTART:19700308T020000
RRULE:FREQ=YEARLY;BYMONTH=3;BYDAY=2SU
END:DAYLIGHT
BEGIN:STANDARD
TZOFFSETFROM:-0400
TZOFFSETTO:-0500
TZNAME:EST
DTSTART:19701101T020000
RRULE:FREQ=YEARLY;BYMONTH=11;BYDAY=1SU
END:STANDARD
END:VTIMEZONE
BEGIN:VTIMEZONE
TZID:America/Indiana/Indianapolis
X-LIC-LOCATION:America/Indiana/Indianapolis
BEGIN:DAYLIGHT
TZOFFSETFROM:-0500
TZOFFSETTO:-0400
TZNAME:EDT
DTSTART:19700308T020000
RRULE:FREQ=YEARLY;BYMONTH=3;BYDAY=2SU
END:DAYLIGHT
BEGIN:STANDARD
TZOFFSETFROM:-0400
TZOFFSETTO:-0500
TZNAME:EST
DTSTART:19701101T020000
RRULE:FREQ=YEARLY;BYMONTH=11;BYDAY=1SU
END:STANDARD
END:VTIMEZONE
BEGIN:VTIMEZONE
TZID:America/Kentucky/Louisville
X-LIC-LOCATION:America/Kentucky/Louisville
BEGIN:DAYLIGHT
TZOFFSETFROM:-0500
TZOFFSETTO:-0400
TZNAME:EDT
DTSTART:19700308T020000
RRULE:FREQ=YEARLY;BYMONTH=3;BYDAY=2SU
END:DAYLIGHT
BEGIN:STANDARD
TZOFFSETFROM:-0400
TZOFFSETTO:-0500
TZNAME:EST
DTSTART:19701101T020000
RRULE:FREQ=YEARLY;BYMONTH=11;BYDAY=1SU
END:STANDARD
END:VTIMEZONE
BEGIN:VTIMEZONE
TZID:America/Los_Angeles
X-LIC-LOCATION:America/Los_Angeles
BEGIN:DAYLIGHT
TZOFFSETFROM:-0800
TZOFFSETTO:-0700
TZNAME:PDT
DTSTART:19700308T020000
RRULE:FREQ=YEARLY;BYMONTH=3;BYDAY=2SU
END:DAYLIGHT
BEGIN:STANDARD
TZOFFSETFROM:-0700
TZOFFSETTO:-0800
TZNAME:PST
DTSTART:19701101T020000
RRULE:FREQ=YEARLY;BYMONTH=11;BYDAY=1SU
END:STANDARD
END:VTIMEZONE
BEGIN:VTIMEZONE
TZID:America/New_York
X-LIC-LOCATION:America/New_York
BEGIN:DAYLIGHT
TZOFFSETFROM:-0500
TZOFFSETTO:-0400
TZNAME:EDT
DTSTART:19700308T020000
RRULE:FREQ=YEARLY;BYMONTH=3;BYDAY=2SU
END:DAYLIGHT
BEGIN:STANDARD
TZOFFSETFROM:-0400
TZOFFSETTO:-0500
TZNAME:EST
DTSTART:19701101T020000
RRULE:FREQ=YEARLY;BYMONTH=11;BYDAY=1SU
END:STANDARD
END:VTIMEZONE
BEGIN:VTIMEZONE
TZID:America/North_Dakota/Beulah
X-LIC-LOCATION:America/North_Dakota/Beulah
BEGIN:DAYLIGHT
TZOFFSETFROM:-0600
TZOFFSETTO:-0500
TZNAME:CDT
DTSTART:19700308T020000
RRULE:FREQ=YEARLY;BYMONTH=3;BYDAY=2SU
END:DAYLIGHT
BEGIN:STANDARD
TZOFFSETFROM:-0500
TZOFFSETTO:-0600
TZNAME:CST
DTSTART:19701101T020000
RRULE:FREQ=YEARLY;BYMONTH=11;BYDAY=1SU
END:STANDARD
END:VTIMEZONE
BEGIN:VTIMEZONE
TZID:America/North_Dakota/Center
X-LIC-LOCATION:America/North_Dakota/Center
BEGIN:DAYLIGHT
TZOFFSETFROM:-0600
TZOFFSETTO:-0500
TZNAME:CDT
DTSTART:19700308T020000
RRULE:FREQ=YEARLY;BYMONTH=3;BYDAY=2SU
END:DAYLIGHT
BEGIN:STANDARD
TZOFFSETFROM:-0500
TZOFFSETTO:-0600
TZNAME:CST
DTSTART:19701101T020000
RRULE:FREQ=YEARLY;BYMONTH=11;BYDAY=1SU
END:STANDARD
END:VTIMEZONE
BEGIN:VTIMEZONE
TZID:America/Phoenix
X-LIC-LOCATION:America/Phoenix
BEGIN:STANDARD
TZOFFSETFROM:-0700
TZOFFSETTO:-0700
TZNAME:MST
DTSTART:19700101T000000
END:STANDARD
END:VTIMEZONE
BEGIN:VTIMEZONE
TZID:America/Vancouver
X-LIC-LOCATION:America/Vancouver
BEGIN:DAYLIGHT
TZOFFSETFROM:-0800
TZOFFSETTO:-0700
TZNAME:PDT
DTSTART:19700308T020000
RRULE:FREQ=YEARLY;BYMONTH=3;BYDAY=2SU
END:DAYLIGHT
BEGIN:STANDARD
TZOFFSETFROM:-0700
TZOFFSETTO:-0800
TZNAME:PST
DTSTART:19701101T020000
RRULE:FREQ=YEARLY;BYMONTH=11;BYDAY=1SU
END:STANDARD
END:VTIMEZONE
BEGIN:VTIMEZONE
TZID:Atlantic/South_Georgia
X-LIC-LOCATION:Atlantic/South_Georgia
BEGIN:STANDARD
TZOFFSETFROM:-0200
TZOFFSETTO:-0200
TZNAME:GST
DTSTART:19700101T000000
END:STANDARD
END:VTIMEZONE
BEGIN:VTIMEZONE
TZID:Pacific/Honolulu
X-LIC-LOCATION:Pacific/Honolulu
BEGIN:STANDARD
TZOFFSETFROM:-1000
TZOFFSETTO:-1000
TZNAME:HST
DTSTART:19700101T000000
END:STANDARD
END:VTIMEZONE
END:VCALENDAR
