BEGIN:VCALENDAR
VERSION:2.0
METHOD:PUBLISH
X-WR-CALNAME;VALUE=TEXT:Events from UUA.org
PRODID:-//Drupal iCal API//EN
BEGIN:VEVENT
SUMMARY:CERSI: Leading Spiritual Lives 2026 (On-site)
UID:b14f7dd9-9d7b-490e-8211-6e749b523b5b
RECURRENCE-ID;TZID=America/New_York:20260706T103000
DTSTART;TZID=America/New_York:20260706T103000
DURATION:P4DT1H15M
DTSTAMP:20260407T175041Z
URL;TYPE=URI:
 https://www.uua.org/central-east/events/region/cersi-leading-spiritual-lives-2026
DESCRIPTION:"Leadership is people leading spiritual lives,” says Hilary Allen, a member of Congregational Life Staff in the New England Region. As practicing Unitarian Universalists, we have historically proclaimed that all have a role to play in creating the Beloved Community. But in times of stress and
 - https://www.uua.org/central-east/events/region/cersi-leading-spiritual-lives-2026
X-ALT-DESC;FMTTYPE=text/html:<strong><p><time datetime="2026-07-06T14:30:00Z" class="datetime">July 6, 2026, 10:30 am EDT</time>
 - <time datetime="2026-07-10T15:45:00Z" class="datetime">July 10, 2026, 11:45 am EDT</time><br /><time datetime="2026-07-06T19:15:00Z" class="datetime">July 6, 2026, 3:15 pm EDT</time>
 - <time datetime="2026-07-10T20:45:00Z" class="datetime">July 10, 2026, 4:45 pm EDT</time></p></strong>&nbsp;<p>"Leadership is people leading spiritual lives,” says Hilary Allen, a member of Congregational Life Staff in the New England Region. As practicing Unitarian Universalists, we have historically proclaimed that all have a role to play in creating the Beloved Community. But in times of stress and constant motion, how do we engage the depths of Love as a grounding force?</p><p><strong>In Leading Spiritual Lives, a summer session jointly sponsored by the Central East and MidAmerica Regions</strong>, participants will come to a deeper understanding that trustworthy, inspired leadership is aligned with deep spiritual work that guides our choices, priorities, and actions with our professed values. Not only will we learn about the essential history and theology of our tradition, but we will also explore the ways that it is present for us today.</p><p>These sessions will include lecture, journaling, small group conversation, resource sharing, and embodied practices. In recognition of the many formal and informal ways that we lead spiritual lives within and beyond our congregations, all are welcome to register. Childcare will be available during every session gathering.</p><p><strong>Date and Time: </strong>Our sessions will take place in person during CERSI’s morning and afternoon tracks: Monday, July 6 through Friday, July 10, from 10:30 to 11:45 each morning, with <strong>afternoon sessions on Tuesday, Wednesday and Thursday from 3:15 to 4:45.&nbsp;</strong></p><p>Be sure you've <a href="https://www.cersiuu.org/"><strong>registered at the CERS website</strong></a><strong> (required) </strong>in addition to completing the special<strong>,</strong><a href="https://uua.wufoo.com/forms/qeigu5h1j39cpy/">add-on registration</a> for the UUA Congregational Life Summer Session.</p><p>The CERSI registration <strong>deadline is June 20</strong>. You must be registered for both to attend.</p><h2>Address</h2><p class="address" translate="no"><span class="organization">Oberlin College</span><br><span class="address-line1">173 W Lorain St</span><br><span class="locality">Oberlin</span>, <span class="administrative-area">OH</span><span class="postal-code">44074</span><br><span class="country">United States</span></p><p><a href="https://www.uua.org/central-east/events/region/cersi-leading-spiritual-lives-2026">CERSI: Leading Spiritual Lives 2026</a></p>
CREATED:20260406T112000Z
END:VEVENT
BEGIN:VEVENT
SUMMARY:CERSI: Leading Spiritual Lives 2026 (On-site)
UID:b14f7dd9-9d7b-490e-8211-6e749b523b5b
RECURRENCE-ID;TZID=America/New_York:20260706T151500
DTSTART;TZID=America/New_York:20260706T151500
DURATION:P4DT1H30M
DTSTAMP:20260407T175041Z
URL;TYPE=URI:
 https://www.uua.org/central-east/events/region/cersi-leading-spiritual-lives-2026
DESCRIPTION:"Leadership is people leading spiritual lives,” says Hilary Allen, a member of Congregational Life Staff in the New England Region. As practicing Unitarian Universalists, we have historically proclaimed that all have a role to play in creating the Beloved Community. But in times of stress and
 - https://www.uua.org/central-east/events/region/cersi-leading-spiritual-lives-2026
X-ALT-DESC;FMTTYPE=text/html:<strong><p><time datetime="2026-07-06T14:30:00Z" class="datetime">July 6, 2026, 10:30 am EDT</time>
 - <time datetime="2026-07-10T15:45:00Z" class="datetime">July 10, 2026, 11:45 am EDT</time><br /><time datetime="2026-07-06T19:15:00Z" class="datetime">July 6, 2026, 3:15 pm EDT</time>
 - <time datetime="2026-07-10T20:45:00Z" class="datetime">July 10, 2026, 4:45 pm EDT</time></p></strong>&nbsp;<p>"Leadership is people leading spiritual lives,” says Hilary Allen, a member of Congregational Life Staff in the New England Region. As practicing Unitarian Universalists, we have historically proclaimed that all have a role to play in creating the Beloved Community. But in times of stress and constant motion, how do we engage the depths of Love as a grounding force?</p><p><strong>In Leading Spiritual Lives, a summer session jointly sponsored by the Central East and MidAmerica Regions</strong>, participants will come to a deeper understanding that trustworthy, inspired leadership is aligned with deep spiritual work that guides our choices, priorities, and actions with our professed values. Not only will we learn about the essential history and theology of our tradition, but we will also explore the ways that it is present for us today.</p><p>These sessions will include lecture, journaling, small group conversation, resource sharing, and embodied practices. In recognition of the many formal and informal ways that we lead spiritual lives within and beyond our congregations, all are welcome to register. Childcare will be available during every session gathering.</p><p><strong>Date and Time: </strong>Our sessions will take place in person during CERSI’s morning and afternoon tracks: Monday, July 6 through Friday, July 10, from 10:30 to 11:45 each morning, with <strong>afternoon sessions on Tuesday, Wednesday and Thursday from 3:15 to 4:45.&nbsp;</strong></p><p>Be sure you've <a href="https://www.cersiuu.org/"><strong>registered at the CERS website</strong></a><strong> (required) </strong>in addition to completing the special<strong>,</strong><a href="https://uua.wufoo.com/forms/qeigu5h1j39cpy/">add-on registration</a> for the UUA Congregational Life Summer Session.</p><p>The CERSI registration <strong>deadline is June 20</strong>. You must be registered for both to attend.</p><h2>Address</h2><p class="address" translate="no"><span class="organization">Oberlin College</span><br><span class="address-line1">173 W Lorain St</span><br><span class="locality">Oberlin</span>, <span class="administrative-area">OH</span><span class="postal-code">44074</span><br><span class="country">United States</span></p><p><a href="https://www.uua.org/central-east/events/region/cersi-leading-spiritual-lives-2026">CERSI: Leading Spiritual Lives 2026</a></p>
CREATED:20260406T112000Z
END:VEVENT
BEGIN:VTIMEZONE
TZID:America/Anchorage
X-LIC-LOCATION:America/Anchorage
BEGIN:DAYLIGHT
TZOFFSETFROM:-0900
TZOFFSETTO:-0800
TZNAME:AKDT
DTSTART:19700308T020000
RRULE:FREQ=YEARLY;BYMONTH=3;BYDAY=2SU
END:DAYLIGHT
BEGIN:STANDARD
TZOFFSETFROM:-0800
TZOFFSETTO:-0900
TZNAME:AKST
DTSTART:19701101T020000
RRULE:FREQ=YEARLY;BYMONTH=11;BYDAY=1SU
END:STANDARD
END:VTIMEZONE
BEGIN:VTIMEZONE
TZID:America/Chicago
X-LIC-LOCATION:America/Chicago
BEGIN:DAYLIGHT
TZOFFSETFROM:-0600
TZOFFSETTO:-0500
TZNAME:CDT
DTSTART:19700308T020000
RRULE:FREQ=YEARLY;BYMONTH=3;BYDAY=2SU
END:DAYLIGHT
BEGIN:STANDARD
TZOFFSETFROM:-0500
TZOFFSETTO:-0600
TZNAME:CST
DTSTART:19701101T020000
RRULE:FREQ=YEARLY;BYMONTH=11;BYDAY=1SU
END:STANDARD
END:VTIMEZONE
BEGIN:VTIMEZONE
TZID:America/Denver
X-LIC-LOCATION:America/Denver
BEGIN:DAYLIGHT
TZOFFSETFROM:-0700
TZOFFSETTO:-0600
TZNAME:MDT
DTSTART:19700308T020000
RRULE:FREQ=YEARLY;BYMONTH=3;BYDAY=2SU
END:DAYLIGHT
BEGIN:STANDARD
TZOFFSETFROM:-0600
TZOFFSETTO:-0700
TZNAME:MST
DTSTART:19701101T020000
RRULE:FREQ=YEARLY;BYMONTH=11;BYDAY=1SU
END:STANDARD
END:VTIMEZONE
BEGIN:VTIMEZONE
TZID:America/Detroit
X-LIC-LOCATION:America/Detroit
BEGIN:DAYLIGHT
TZOFFSETFROM:-0500
TZOFFSETTO:-0400
TZNAME:EDT
DTSTART:19700308T020000
RRULE:FREQ=YEARLY;BYMONTH=3;BYDAY=2SU
END:DAYLIGHT
BEGIN:STANDARD
TZOFFSETFROM:-0400
TZOFFSETTO:-0500
TZNAME:EST
DTSTART:19701101T020000
RRULE:FREQ=YEARLY;BYMONTH=11;BYDAY=1SU
END:STANDARD
END:VTIMEZONE
BEGIN:VTIMEZONE
TZID:America/Indiana/Indianapolis
X-LIC-LOCATION:America/Indiana/Indianapolis
BEGIN:DAYLIGHT
TZOFFSETFROM:-0500
TZOFFSETTO:-0400
TZNAME:EDT
DTSTART:19700308T020000
RRULE:FREQ=YEARLY;BYMONTH=3;BYDAY=2SU
END:DAYLIGHT
BEGIN:STANDARD
TZOFFSETFROM:-0400
TZOFFSETTO:-0500
TZNAME:EST
DTSTART:19701101T020000
RRULE:FREQ=YEARLY;BYMONTH=11;BYDAY=1SU
END:STANDARD
END:VTIMEZONE
BEGIN:VTIMEZONE
TZID:America/Kentucky/Louisville
X-LIC-LOCATION:America/Kentucky/Louisville
BEGIN:DAYLIGHT
TZOFFSETFROM:-0500
TZOFFSETTO:-0400
TZNAME:EDT
DTSTART:19700308T020000
RRULE:FREQ=YEARLY;BYMONTH=3;BYDAY=2SU
END:DAYLIGHT
BEGIN:STANDARD
TZOFFSETFROM:-0400
TZOFFSETTO:-0500
TZNAME:EST
DTSTART:19701101T020000
RRULE:FREQ=YEARLY;BYMONTH=11;BYDAY=1SU
END:STANDARD
END:VTIMEZONE
BEGIN:VTIMEZONE
TZID:America/Los_Angeles
X-LIC-LOCATION:America/Los_Angeles
BEGIN:DAYLIGHT
TZOFFSETFROM:-0800
TZOFFSETTO:-0700
TZNAME:PDT
DTSTART:19700308T020000
RRULE:FREQ=YEARLY;BYMONTH=3;BYDAY=2SU
END:DAYLIGHT
BEGIN:STANDARD
TZOFFSETFROM:-0700
TZOFFSETTO:-0800
TZNAME:PST
DTSTART:19701101T020000
RRULE:FREQ=YEARLY;BYMONTH=11;BYDAY=1SU
END:STANDARD
END:VTIMEZONE
BEGIN:VTIMEZONE
TZID:America/New_York
X-LIC-LOCATION:America/New_York
BEGIN:DAYLIGHT
TZOFFSETFROM:-0500
TZOFFSETTO:-0400
TZNAME:EDT
DTSTART:19700308T020000
RRULE:FREQ=YEARLY;BYMONTH=3;BYDAY=2SU
END:DAYLIGHT
BEGIN:STANDARD
TZOFFSETFROM:-0400
TZOFFSETTO:-0500
TZNAME:EST
DTSTART:19701101T020000
RRULE:FREQ=YEARLY;BYMONTH=11;BYDAY=1SU
END:STANDARD
END:VTIMEZONE
BEGIN:VTIMEZONE
TZID:America/North_Dakota/Beulah
X-LIC-LOCATION:America/North_Dakota/Beulah
BEGIN:DAYLIGHT
TZOFFSETFROM:-0600
TZOFFSETTO:-0500
TZNAME:CDT
DTSTART:19700308T020000
RRULE:FREQ=YEARLY;BYMONTH=3;BYDAY=2SU
END:DAYLIGHT
BEGIN:STANDARD
TZOFFSETFROM:-0500
TZOFFSETTO:-0600
TZNAME:CST
DTSTART:19701101T020000
RRULE:FREQ=YEARLY;BYMONTH=11;BYDAY=1SU
END:STANDARD
END:VTIMEZONE
BEGIN:VTIMEZONE
TZID:America/North_Dakota/Center
X-LIC-LOCATION:America/North_Dakota/Center
BEGIN:DAYLIGHT
TZOFFSETFROM:-0600
TZOFFSETTO:-0500
TZNAME:CDT
DTSTART:19700308T020000
RRULE:FREQ=YEARLY;BYMONTH=3;BYDAY=2SU
END:DAYLIGHT
BEGIN:STANDARD
TZOFFSETFROM:-0500
TZOFFSETTO:-0600
TZNAME:CST
DTSTART:19701101T020000
RRULE:FREQ=YEARLY;BYMONTH=11;BYDAY=1SU
END:STANDARD
END:VTIMEZONE
BEGIN:VTIMEZONE
TZID:America/Phoenix
X-LIC-LOCATION:America/Phoenix
BEGIN:STANDARD
TZOFFSETFROM:-0700
TZOFFSETTO:-0700
TZNAME:MST
DTSTART:19700101T000000
END:STANDARD
END:VTIMEZONE
BEGIN:VTIMEZONE
TZID:America/Vancouver
X-LIC-LOCATION:America/Vancouver
BEGIN:DAYLIGHT
TZOFFSETFROM:-0800
TZOFFSETTO:-0700
TZNAME:PDT
DTSTART:19700308T020000
RRULE:FREQ=YEARLY;BYMONTH=3;BYDAY=2SU
END:DAYLIGHT
BEGIN:STANDARD
TZOFFSETFROM:-0700
TZOFFSETTO:-0800
TZNAME:PST
DTSTART:19701101T020000
RRULE:FREQ=YEARLY;BYMONTH=11;BYDAY=1SU
END:STANDARD
END:VTIMEZONE
BEGIN:VTIMEZONE
TZID:Atlantic/South_Georgia
X-LIC-LOCATION:Atlantic/South_Georgia
BEGIN:STANDARD
TZOFFSETFROM:-0200
TZOFFSETTO:-0200
TZNAME:GST
DTSTART:19700101T000000
END:STANDARD
END:VTIMEZONE
BEGIN:VTIMEZONE
TZID:Pacific/Honolulu
X-LIC-LOCATION:Pacific/Honolulu
BEGIN:STANDARD
TZOFFSETFROM:-1000
TZOFFSETTO:-1000
TZNAME:HST
DTSTART:19700101T000000
END:STANDARD
END:VTIMEZONE
END:VCALENDAR
